<?xml version="1.0" encoding="UTF-8" standalone="no"?>
<metadata xml:lang="en">
<Esri>
<CreaDate>20200330</CreaDate>
<CreaTime>11252400</CreaTime>
<ArcGISFormat>1.0</ArcGISFormat>
<SyncOnce>FALSE</SyncOnce>
<DataProperties>
<lineage>
<Process Date="20200330" Name="" Time="112524" ToolSource="c:\program files\arcgis\pro\Resources\ArcToolbox\toolboxes\Data Management Tools.tbx\CreateMosaicDataset" export="">CreateMosaicDataset "\\virgis01\GIS\Orthoimagery\01 Data\2012 Taupo Bay\ImageService\Taupo_Bay_Imagery_2012.gdb" Taupo_Bay_Imagery_2012 PROJCS['NZGD_2000_New_Zealand_Transverse_Mercator',GEOGCS['GCS_NZGD_2000',DATUM['D_NZGD_2000',SPHEROID['GRS_1980',6378137.0,298.257222101]],PRIMEM['Greenwich',0.0],UNIT['Degree',0.0174532925199433]],PROJECTION['Transverse_Mercator'],PARAMETER['False_Easting',1600000.0],PARAMETER['False_Northing',10000000.0],PARAMETER['Central_Meridian',173.0],PARAMETER['Scale_Factor',0.9996],PARAMETER['Latitude_Of_Origin',0.0],UNIT['Meter',1.0]] 3 "8-bit unsigned" "Natural color" "Red 630 690;Green 530 570;Blue 440 510"</Process>
<Process Date="20200330" Name="" Time="114537" ToolSource="c:\program files\arcgis\pro\Resources\ArcToolbox\toolboxes\Data Management Tools.tbx\AddRastersToMosaicDataset" export="">AddRastersToMosaicDataset "\\virgis01\GIS\Orthoimagery\01 Data\2012 Taupo Bay\ImageService\Taupo_Bay_Imagery_2012.gdb\Taupo_Bay_Imagery_2012" "Raster Dataset" '\\virgis01\GIS\Orthoimagery\01 Data\2012 Taupo Bay\Acacia Bay';'\\virgis01\GIS\Orthoimagery\01 Data\2012 Taupo Bay\Kinloch';'\\virgis01\GIS\Orthoimagery\01 Data\2012 Taupo Bay\Taupo Central';'\\virgis01\GIS\Orthoimagery\01 Data\2012 Taupo Bay\Taupo North';'\\virgis01\GIS\Orthoimagery\01 Data\2012 Taupo Bay\Taupo South';'\\virgis01\GIS\Orthoimagery\01 Data\2012 Taupo Bay\Wairakei';'\\virgis01\GIS\Orthoimagery\01 Data\2012 Taupo Bay\Waitahanui' UPDATE_CELL_SIZES UPDATE_BOUNDARY NO_OVERVIEWS # 0 1500 "PROJCS['NZGD_2000_New_Zealand_Transverse_Mercator',GEOGCS['GCS_NZGD_2000',DATUM['D_NZGD_2000',SPHEROID['GRS_1980',6378137.0,298.257222101]],PRIMEM['Greenwich',0.0],UNIT['Degree',0.0174532925199433]],PROJECTION['Transverse_Mercator'],PARAMETER['False_Easting',1600000.0],PARAMETER['False_Northing',10000000.0],PARAMETER['Central_Meridian',173.0],PARAMETER['Scale_Factor',0.9996],PARAMETER['Latitude_Of_Origin',0.0],UNIT['Meter',1.0]];-4020900 1900 10000;-100000 10000;-100000 10000;0.001;0.001;0.001;IsHighPrecision" # NO_SUBFOLDERS "Overwrite duplicates" BUILD_PYRAMIDS CALCULATE_STATISTICS BUILD_THUMBNAILS # NO_FORCE_SPATIAL_REFERENCE ESTIMATE_STATISTICS # NO_PIXEL_CACHE C:\Users\emroczek\AppData\Local\ESRI\rasterproxies\Taupo_Bay_Imagery_2012</Process>
<Process Date="20200622" Name="" Time="134508" ToolSource="c:\program files\arcgis\pro\Resources\ArcToolbox\Toolboxes\Data Management Tools.tbx\Rename" export="">Rename "\\virgis01\GIS\Orthoimagery\01 Data\2012 Taupo Bay\Taupo_Bay_2012_ImageService\Taupo_Bay_2012.gdb\Taupo_Bay_Imagery_2012" "\\virgis01\GIS\Orthoimagery\01 Data\2012 Taupo Bay\Taupo_Bay_2012_ImageService\Taupo_Bay_2012.gdb\Taupo_Bay__2012" MosaicDataset</Process>
<Process Date="20200622" Name="" Time="134531" ToolSource="c:\program files\arcgis\pro\Resources\ArcToolbox\Toolboxes\Data Management Tools.tbx\Rename" export="">Rename "\\virgis01\GIS\Orthoimagery\01 Data\2012 Taupo Bay\Taupo_Bay_2012_ImageService\Taupo_Bay_2012.gdb\Taupo_Bay__2012" "\\virgis01\GIS\Orthoimagery\01 Data\2012 Taupo Bay\Taupo_Bay_2012_ImageService\Taupo_Bay_2012.gdb\Taupo_Bay_2012" MosaicDataset</Process>
<Process Date="20200622" Name="" Time="142629" ToolSource="c:\program files\arcgis\pro\Resources\ArcToolbox\Toolboxes\Data Management Tools.tbx\Rename" export="">Rename "\\virgis01\GIS\Orthoimagery\01 Data\2012 Taupo Bay\Taupō_Bay_Kinloch_2012_ImageService\Taupō_Bay_Kinloch_2012.gdb\Taupo_Bay_2012" "\\virgis01\GIS\Orthoimagery\01 Data\2012 Taupo Bay\Taupō_Bay_Kinloch_2012_ImageService\Taupō_Bay_Kinloch_2012.gdb\Taupō_Bay_Kinloch_2012" MosaicDataset</Process>
</lineage>
<itemProps>
<itemName Sync="TRUE">Taupō_Bay_Kinloch_2012</itemName>
<itemLocation>
<linkage Sync="TRUE">file://\\virgis01\GIS\Orthoimagery\01 Data\2012 Taupo Bay\Taupō_Bay_Kinloch_2012_ImageService\Taupō_Bay_Kinloch_2012.gdb</linkage>
<protocol Sync="TRUE">Local Area Network</protocol>
</itemLocation>
<nativeExtBox>
<westBL Sync="TRUE">1852960.000000</westBL>
<eastBL Sync="TRUE">1877440.000000</eastBL>
<southBL Sync="TRUE">5700480.000000</southBL>
<northBL Sync="TRUE">5723520.000000</northBL>
<exTypeCode Sync="TRUE">1</exTypeCode>
</nativeExtBox>
</itemProps>
<coordRef>
<type Sync="TRUE">Projected</type>
<geogcsn Sync="TRUE">GCS_NZGD_2000</geogcsn>
<csUnits Sync="TRUE">Linear Unit: Meter (1.000000)</csUnits>
<projcsn Sync="TRUE">NZGD_2000_New_Zealand_Transverse_Mercator</projcsn>
<peXml Sync="TRUE">&lt;ProjectedCoordinateSystem xsi:type='typens:ProjectedCoordinateSystem' xmlns:xsi='http://www.w3.org/2001/XMLSchema-instance' xmlns:xs='http://www.w3.org/2001/XMLSchema' xmlns:typens='http://www.esri.com/schemas/ArcGIS/2.5.0'&gt;&lt;WKT&gt;PROJCS[&amp;quot;NZGD_2000_New_Zealand_Transverse_Mercator&amp;quot;,GEOGCS[&amp;quot;GCS_NZGD_2000&amp;quot;,DATUM[&amp;quot;D_NZGD_2000&amp;quot;,SPHEROID[&amp;quot;GRS_1980&amp;quot;,6378137.0,298.257222101]],PRIMEM[&amp;quot;Greenwich&amp;quot;,0.0],UNIT[&amp;quot;Degree&amp;quot;,0.0174532925199433]],PROJECTION[&amp;quot;Transverse_Mercator&amp;quot;],PARAMETER[&amp;quot;False_Easting&amp;quot;,1600000.0],PARAMETER[&amp;quot;False_Northing&amp;quot;,10000000.0],PARAMETER[&amp;quot;Central_Meridian&amp;quot;,173.0],PARAMETER[&amp;quot;Scale_Factor&amp;quot;,0.9996],PARAMETER[&amp;quot;Latitude_Of_Origin&amp;quot;,0.0],UNIT[&amp;quot;Meter&amp;quot;,1.0],AUTHORITY[&amp;quot;EPSG&amp;quot;,2193]]&lt;/WKT&gt;&lt;XOrigin&gt;-4020900&lt;/XOrigin&gt;&lt;YOrigin&gt;1900&lt;/YOrigin&gt;&lt;XYScale&gt;450445547.3910538&lt;/XYScale&gt;&lt;ZOrigin&gt;-100000&lt;/ZOrigin&gt;&lt;ZScale&gt;10000&lt;/ZScale&gt;&lt;MOrigin&gt;-100000&lt;/MOrigin&gt;&lt;MScale&gt;10000&lt;/MScale&gt;&lt;XYTolerance&gt;0.001&lt;/XYTolerance&gt;&lt;ZTolerance&gt;0.001&lt;/ZTolerance&gt;&lt;MTolerance&gt;0.001&lt;/MTolerance&gt;&lt;HighPrecision&gt;true&lt;/HighPrecision&gt;&lt;WKID&gt;2193&lt;/WKID&gt;&lt;LatestWKID&gt;2193&lt;/LatestWKID&gt;&lt;/ProjectedCoordinateSystem&gt;</peXml>
</coordRef>
<RasterProperties>
<General>
<PixelDepth Sync="TRUE">8</PixelDepth>
<HasColormap Sync="TRUE">FALSE</HasColormap>
<CompressionType Sync="TRUE">None</CompressionType>
<NumBands Sync="TRUE">3</NumBands>
<Format Sync="TRUE">AMD</Format>
<HasPyramids Sync="TRUE">TRUE</HasPyramids>
<SourceType Sync="TRUE">continuous</SourceType>
<PixelType Sync="TRUE">unsigned integer</PixelType>
<NoDataValue Sync="TRUE"/>
</General>
<Properties>
<MaxImageHeight Sync="TRUE">4100</MaxImageHeight>
<MaxImageWidth Sync="TRUE">15000</MaxImageWidth>
<MaxRecordCount Sync="TRUE">1000</MaxRecordCount>
<MaxDownloadImageCount Sync="TRUE">20</MaxDownloadImageCount>
<MaxDownloadSizeLimit Sync="TRUE">2048</MaxDownloadSizeLimit>
<MaxMosaicImageCount Sync="TRUE">50</MaxMosaicImageCount>
<DefaultCompressionQuality Sync="TRUE">75</DefaultCompressionQuality>
<DefaultCompressionTolerance Sync="TRUE">0.01</DefaultCompressionTolerance>
<BlendWidth Sync="TRUE">10</BlendWidth>
<ViewpointSpacingX Sync="TRUE">600</ViewpointSpacingX>
<ViewpointSpacingY Sync="TRUE">300</ViewpointSpacingY>
<AllowedItemMetadata Sync="TRUE">Basic</AllowedItemMetadata>
<DefaultResamplingMethod Sync="TRUE">1</DefaultResamplingMethod>
<AllowedMosaicMethods Sync="TRUE">NorthWest,Center,LockRaster,ByAttribute,Nadir,Viewpoint,Seamline,None</AllowedMosaicMethods>
<AllowedCompressions Sync="TRUE">None,JPEG,LZ77,LERC</AllowedCompressions>
<AllowedMensurationCapabilities Sync="TRUE">NONE</AllowedMensurationCapabilities>
<AvailableMensurationCapabilities Sync="TRUE">None,Basic,Base-Top Height,Top-Top Shadow Height,Base-Top Shadow Height,3D</AvailableMensurationCapabilities>
<ClipToBoundary Sync="TRUE">-1</ClipToBoundary>
<FootprintMayContainNoData Sync="TRUE">-1</FootprintMayContainNoData>
<CellSizeTolerance Sync="TRUE">0.8</CellSizeTolerance>
<MinimumPixelContribution Sync="TRUE">1</MinimumPixelContribution>
<AvailableMosaicMethods Sync="TRUE">NorthWest,Center,LockRaster,ByAttribute,Nadir,Viewpoint,Seamline,None</AvailableMosaicMethods>
<AvailableCompressionMethods Sync="TRUE">None,JPEG,LZ77,LERC</AvailableCompressionMethods>
<AvailableItemMetadataLevels Sync="TRUE">None,Basic,Full</AvailableItemMetadataLevels>
<BandDefinitionKeyword Sync="TRUE">NaturalColor</BandDefinitionKeyword>
<ApplyColorCorrection Sync="TRUE">0</ApplyColorCorrection>
<_docversion_ Sync="TRUE">10</_docversion_>
<AllowedFields Sync="TRUE">Name,MinPS,MaxPS,LowPS,HighPS,Tag,GroupName,ProductName,CenterX,CenterY,ZOrder,Shape_Length,Shape_Area,Thumbnail</AllowedFields>
<MaxCellSize Sync="TRUE">9112.5</MaxCellSize>
<LowCellSize Sync="TRUE">0.125</LowCellSize>
<HighCellSize Sync="TRUE">182.25</HighCellSize>
<PixelCacheLocation Sync="TRUE">C:\Users\emroczek\AppData\Local\ESRI\rasterproxies\Taupo_Bay_Imagery_2012</PixelCacheLocation>
<ClipToFootprint Sync="TRUE">0</ClipToFootprint>
<SortAscending Sync="TRUE">-1</SortAscending>
<MosaicOperator Sync="TRUE">1</MosaicOperator>
<UseTime Sync="TRUE">0</UseTime>
<DataType Sync="TRUE">Generic</DataType>
</Properties>
<Functions Sync="TRUE">
<Function Description="Performs on-the-fly mosaic on a raster catalog." Name="Mosaic Function"/>
</Functions>
</RasterProperties>
</DataProperties>
<scaleRange>
<minScale>150000000</minScale>
<maxScale>5000</maxScale>
</scaleRange>
<SyncDate>20200622</SyncDate>
<SyncTime>14321500</SyncTime>
<ModDate>20200622</ModDate>
<ModTime>14321500</ModTime>
</Esri>
<dataIdInfo>
<idPurp>Taupō Bay &amp; Kinloch Aerial Imagery 2012</idPurp>
<idAbs>&lt;div style='text-align:Left;'&gt;&lt;div&gt;&lt;div&gt;&lt;p&gt;&lt;span&gt;Aerial Imagery&lt;/span&gt;&lt;span&gt; covering the Taupō Bay area including Acacia Bay, Kinloch, Taupō, Wairakei &amp;amp; Waitahanui.&lt;/span&gt;&lt;span&gt; &lt;/span&gt;&lt;span&gt;Imagery s&lt;/span&gt;&lt;span&gt;upplied by NZAM to Taupō District Council.&lt;/span&gt;&lt;/p&gt;&lt;/div&gt;&lt;/div&gt;&lt;/div&gt;</idAbs>
<idCredit>This work is licensed under the Creative Commons Attribution 3.0 New Zealand License (please attribute NZAM and Taupo District Council)</idCredit>
<idCitation>
<resTitle>Taupō_Bay_Kinloch_2012</resTitle>
<presForm>
<PresFormCd Sync="TRUE" value="005"/>
</presForm>
</idCitation>
<searchKeys>
<keyword>Taupō</keyword>
<keyword>Imagery</keyword>
<keyword>Orthoimagery</keyword>
<keyword>Aerial</keyword>
<keyword>NZAM</keyword>
<keyword>Historic</keyword>
</searchKeys>
<envirDesc Sync="TRUE">Microsoft Windows 10 Version 10.0 (Build 17763) ; Esri ArcGIS 12.5.0.22081</envirDesc>
<dataLang>
<languageCode Sync="TRUE" value="eng"/>
<countryCode Sync="TRUE" value="NZL"/>
</dataLang>
<spatRpType>
<SpatRepTypCd Sync="TRUE" value="002"/>
</spatRpType>
<dataExt>
<geoEle>
<GeoBndBox esriExtentType="search">
<exTypeCode Sync="TRUE">1</exTypeCode>
<westBL Sync="TRUE">175.904763</westBL>
<eastBL Sync="TRUE">176.194701</eastBL>
<northBL Sync="TRUE">-38.593481</northBL>
<southBL Sync="TRUE">-38.808156</southBL>
</GeoBndBox>
</geoEle>
</dataExt>
<resConst>
<Consts>
<useLimit/>
</Consts>
</resConst>
</dataIdInfo>
<mdHrLv>
<ScopeCd value="005"/>
</mdHrLv>
<mdDateSt Sync="TRUE">20200622</mdDateSt>
<mdLang>
<languageCode Sync="TRUE" value="eng"/>
<countryCode Sync="TRUE" value="NZL"/>
</mdLang>
<refSysInfo>
<RefSystem>
<refSysID>
<identCode Sync="TRUE" code="2193"/>
<idCodeSpace Sync="TRUE">EPSG</idCodeSpace>
<idVersion Sync="TRUE">7.9.4(9.0.0)</idVersion>
</refSysID>
</RefSystem>
</refSysInfo>
<spatRepInfo>
<Georect>
<cellGeo>
<CellGeoCd Sync="TRUE" value="002"/>
</cellGeo>
<numDims Sync="TRUE">2</numDims>
<tranParaAv Sync="TRUE">1</tranParaAv>
<chkPtAv Sync="TRUE">0</chkPtAv>
<cornerPts>
<pos Sync="TRUE">1852960.000000 5700480.000000</pos>
</cornerPts>
<cornerPts>
<pos Sync="TRUE">1852960.000000 5723520.000000</pos>
</cornerPts>
<cornerPts>
<pos Sync="TRUE">1877440.000000 5723520.000000</pos>
</cornerPts>
<cornerPts>
<pos Sync="TRUE">1877440.000000 5700480.000000</pos>
</cornerPts>
<centerPt>
<pos Sync="TRUE">1865200.000000 5712000.000000</pos>
</centerPt>
<axisDimension type="002">
<dimSize Sync="TRUE">195840</dimSize>
<dimResol>
<value Sync="TRUE" uom="m">0.125000</value>
</dimResol>
</axisDimension>
<axisDimension type="001">
<dimSize Sync="TRUE">184320</dimSize>
<dimResol>
<value Sync="TRUE" uom="m">0.125000</value>
</dimResol>
</axisDimension>
<ptInPixel>
<PixOrientCd Sync="TRUE" value="001"/>
</ptInPixel>
</Georect>
</spatRepInfo>
<contInfo>
<ImgDesc>
<contentTyp>
<ContentTypCd Sync="TRUE" value="001"/>
</contentTyp>
<covDim>
<Band>
<dimDescrp Sync="TRUE">Red</dimDescrp>
<maxVal Sync="TRUE">255.000000</maxVal>
<minVal Sync="TRUE">0.000000</minVal>
<bitsPerVal Sync="TRUE">8</bitsPerVal>
<valUnit>
<UOM type="length"/>
</valUnit>
</Band>
<Band>
<dimDescrp Sync="TRUE">Green</dimDescrp>
<maxVal Sync="TRUE">255.000000</maxVal>
<minVal Sync="TRUE">0.000000</minVal>
<bitsPerVal Sync="TRUE">8</bitsPerVal>
<valUnit>
<UOM type="length"/>
</valUnit>
</Band>
<Band>
<dimDescrp Sync="TRUE">Blue</dimDescrp>
<maxVal Sync="TRUE">255.000000</maxVal>
<minVal Sync="TRUE">0.000000</minVal>
<bitsPerVal Sync="TRUE">8</bitsPerVal>
<valUnit>
<UOM type="length"/>
</valUnit>
</Band>
</covDim>
</ImgDesc>
</contInfo>
</metadata>
