.<\/span><\/span><\/p><\/p>
Metadata Summary:<\/span><\/span><\/p>Title: <\/span><\/span>Lake Taupō Western Settlements, Waikato, New Zealand, 2019<\/span><\/span><\/p>Description: <\/span><\/span>AAM was engaged by Taupō District Council to undertake acquisition and processing of airborne LiDAR and imagery over sites on the western side of Lake Taupo.<\/span><\/span><\/p>Survey Date: <\/span><\/span>18th December 2018 and 4th January 2019<\/span><\/span><\/p>Area of Full Dataset: <\/span><\/span>35 km2<\/span><\/span><\/p>Size of Full Dataset: <\/span><\/span>12.7GB<\/span><\/span><\/p>Accuracy: <\/span><\/span>≤0.50m @ 90% confidence<\/span><\/span><\/p>Resolution:<\/span><\/span> 0.1m gsd<\/span><\/span><\/p>Coordinate System:<\/span><\/span> NZTM2000 NZGD2000 Meters [EPSG: 2193]<\/span><\/span><\/p>Collector:<\/span><\/span> AAM New Zealand Limited<\/span><\/span><\/p>Licensor:<\/span><\/span> <\/span><\/span>This work is licensed by AAM NZ Limited and Taupō District Council for re-use under the Creative Commons Attribut<\/span><\/span>ion 4.0 New Zealand License.<\/span><\/span><\/p>Raw File<\/span><\/span> <\/span><\/span>Format:<\/span><\/span> GeoTIFF<\/span><\/span><\/p>Funder:<\/span><\/span> Taup<\/span><\/span>ō<\/span><\/span> District Council<\/span><\/p><\/div><\/div><\/div>",
"extent": {
"xmin": 1835680,
"ymin": 5683200,
"xmax": 1842400,
"ymax": 5711280,
"spatialReference": {
"wkid": 2193,
"latestWkid": 2193
}
},
"initialExtent": {
"xmin": 1835680,
"ymin": 5683200,
"xmax": 1842400,
"ymax": 5711280,
"spatialReference": {
"wkid": 2193,
"latestWkid": 2193
}
},
"fullExtent": {
"xmin": 1835680,
"ymin": 5683200,
"xmax": 1842400,
"ymax": 5711280,
"spatialReference": {
"wkid": 2193,
"latestWkid": 2193
}
},
"sortableFields": "",
"bandCount": 3,
"pixelType": "U8",
"minValues": [
0,
0,
0
],
"maxValues": [
254,
254,
254
],
"meanValues": [
105.47267835647403,
101.10370367475251,
85.38031811343555
],
"stdvValues": [
46.14417141452354,
42.09623391763002,
31.436158321864024
],
"hasMultidimensions": false,
"pixelSizeX": 0.1,
"pixelSizeY": 0.1,
"datasetFormat": "AMD",
"uncompressedSize": 56609280000,
"blockWidth": 2048,
"blockHeight": 256,
"compressionType": "None",
"bandNames": [
"Red",
"Green",
"Blue"
],
"allowCopy": true,
"allowAnalysis": true,
"itemAccess": false,
"minPixelSize": 0.018661383852976044,
"maxPixelSize": 156543.03392799935,
"copyrightText": "This work is licensed under the Creative Commons Attribution 3.0 New Zealand License (please attribute AAM and Taupō District Council).",
"serviceDataType": "esriImageServiceDataTypeRGB",
"serviceSourceType": "esriImageServiceSourceTypeMosaicDataset",
"objectIdField": "OBJECTID",
"fields": [
{
"name": "OBJECTID",
"type": "esriFieldTypeOID",
"alias": "OBJECTID",
"domain": null
},
{
"name": "Shape",
"type": "esriFieldTypeGeometry",
"alias": "Shape",
"domain": null
},
{
"name": "Name",
"type": "esriFieldTypeString",
"alias": "Name",
"domain": null,
"length": 200
},
{
"name": "MinPS",
"type": "esriFieldTypeDouble",
"alias": "MinPS",
"domain": null
},
{
"name": "MaxPS",
"type": "esriFieldTypeDouble",
"alias": "MaxPS",
"domain": null
},
{
"name": "LowPS",
"type": "esriFieldTypeDouble",
"alias": "LowPS",
"domain": null
},
{
"name": "HighPS",
"type": "esriFieldTypeDouble",
"alias": "HighPS",
"domain": null
},
{
"name": "Category",
"type": "esriFieldTypeInteger",
"alias": "Category",
"domain": {
"type": "codedValue",
"name": "MosaicCatalogItemCategoryDomain",
"description": "Catalog item categories.",
"codedValues": [
{
"name": "Unknown",
"code": 0
},
{
"name": "Primary",
"code": 1
},
{
"name": "Overview",
"code": 2
},
{
"name": "Unprocessed Overview",
"code": 3
},
{
"name": "Partial Overview",
"code": 4
},
{
"name": "Inactive",
"code": 5
},
{
"name": "Uploaded",
"code": 253
},
{
"name": "Incomplete",
"code": 254
},
{
"name": "Custom",
"code": 255
}
],
"mergePolicy": "esriMPTDefaultValue",
"splitPolicy": "esriSPTDefaultValue"
}
},
{
"name": "Tag",
"type": "esriFieldTypeString",
"alias": "Tag",
"domain": null,
"length": 100
},
{
"name": "GroupName",
"type": "esriFieldTypeString",
"alias": "GroupName",
"domain": null,
"length": 100
},
{
"name": "ProductName",
"type": "esriFieldTypeString",
"alias": "ProductName",
"domain": null,
"length": 100
},
{
"name": "CenterX",
"type": "esriFieldTypeDouble",
"alias": "CenterX",
"domain": null
},
{
"name": "CenterY",
"type": "esriFieldTypeDouble",
"alias": "CenterY",
"domain": null
},
{
"name": "ZOrder",
"type": "esriFieldTypeInteger",
"alias": "ZOrder",
"domain": null
},
{
"name": "Shape_Length",
"type": "esriFieldTypeDouble",
"alias": "Shape_Length",
"domain": null
},
{
"name": "Shape_Area",
"type": "esriFieldTypeDouble",
"alias": "Shape_Area",
"domain": null
}
],
"capabilities": "Catalog,Image,Metadata",
"defaultMosaicMethod": "Northwest",
"allowedMosaicMethods": "NorthWest,Center,LockRaster,ByAttribute,Nadir,Viewpoint,Seamline,None",
"sortField": "",
"sortValue": null,
"sortAscending": true,
"mosaicOperator": "First",
"maxDownloadSizeLimit": 2048,
"defaultCompressionQuality": 75,
"defaultResamplingMethod": "Bilinear",
"maxImageHeight": 4100,
"maxImageWidth": 15000,
"maxRecordCount": 1000,
"maxDownloadImageCount": 20,
"maxMosaicImageCount": 50,
"singleFusedMapCache": true,
"tileInfo": {
"rows": 256,
"cols": 256,
"dpi": 96,
"format": "MIXED",
"compressionQuality": 90,
"origin": {
"x": -4020900,
"y": 19998100
},
"spatialReference": {
"wkid": 2193,
"latestWkid": 2193
},
"lods": [
{
"level": 0,
"resolution": 156543.03392799935,
"scale": 5.91657527591552E8
},
{
"level": 1,
"resolution": 78271.51696399967,
"scale": 2.95828763795776E8
},
{
"level": 2,
"resolution": 39135.75848199984,
"scale": 1.47914381897888E8
},
{
"level": 3,
"resolution": 19567.87924099992,
"scale": 7.3957190948944E7
},
{
"level": 4,
"resolution": 9783.93962049996,
"scale": 3.6978595474472E7
},
{
"level": 5,
"resolution": 4891.96981024998,
"scale": 1.8489297737236E7
},
{
"level": 6,
"resolution": 2445.98490512499,
"scale": 9244648.868618
},
{
"level": 7,
"resolution": 1222.992452562495,
"scale": 4622324.434309
},
{
"level": 8,
"resolution": 611.4962262813797,
"scale": 2311162.217155
},
{
"level": 9,
"resolution": 305.74811314055756,
"scale": 1155581.108577
},
{
"level": 10,
"resolution": 152.87405657041106,
"scale": 577790.554289
},
{
"level": 11,
"resolution": 76.43702828507324,
"scale": 288895.277144
},
{
"level": 12,
"resolution": 38.21851414253662,
"scale": 144447.638572
},
{
"level": 13,
"resolution": 19.10925707126831,
"scale": 72223.819286
},
{
"level": 14,
"resolution": 9.554628535634155,
"scale": 36111.909643
},
{
"level": 15,
"resolution": 4.77731426794937,
"scale": 18055.954822
},
{
"level": 16,
"resolution": 2.388657133974685,
"scale": 9027.977411
},
{
"level": 17,
"resolution": 1.1943285668550503,
"scale": 4513.988705
},
{
"level": 18,
"resolution": 0.5971642835598172,
"scale": 2256.994353
},
{
"level": 19,
"resolution": 0.29858214164761665,
"scale": 1128.497176
},
{
"level": 20,
"resolution": 0.14929107082380833,
"scale": 564.248588
},
{
"level": 21,
"resolution": 0.07464553541190416,
"scale": 282.124294
},
{
"level": 22,
"resolution": 0.03732276770595208,
"scale": 141.062147
},
{
"level": 23,
"resolution": 0.01866138385297604,
"scale": 70.5310735
}
]
},
"storageInfo": {
"storageFormat": "esriMapCacheStorageModeCompactV2",
"packetSize": 128
},
"cacheType": "Map",
"allowRasterFunction": true,
"rasterFunctionInfos": [
{
"name": "None",
"description": "A No-Op Function.",
"help": ""
}
],
"rasterTypeInfos": [
{
"name": "Raster Dataset",
"description": "Supports all ArcGIS Raster Datasets",
"help": ""
}
],
"mensurationCapabilities": "None",
"hasHistograms": true,
"hasColormap": false,
"hasRasterAttributeTable": false,
"minScale": 5.91657527591552E8,
"maxScale": 70.5310735,
"minLOD": 0,
"maxLOD": 23,
"exportTilesAllowed": true,
"maxExportTilesCount": 100000,
"supportsStatistics": true,
"supportsAdvancedQueries": true,
"editFieldsInfo": null,
"ownershipBasedAccessControlForRasters": null,
"allowComputeTiePoints": false,
"useStandardizedQueries": true,
"advancedQueryCapabilities": {
"useStandardizedQueries": true,
"supportsStatistics": true,
"supportsOrderBy": true,
"supportsDistinct": true,
"supportsPagination": true
},
"spatialReference": {
"wkid": 2193,
"latestWkid": 2193
}
}