View In:
ArcGIS JavaScript
ArcGIS Enterprise Map Viewer
ArcGIS Earth
Service Description: Title
Taupō and Kinloch Settlements, Waikato, New Zealand, 2020
Description
AAM was engaged by Taupo District Council to undertake acquisition and processing of aerial imagery over Taupo and Kinloch settlements.
Survey Date
23rd, 25th and 26th of January 2020
Area of Imagery Dataset
153 km2 (approx)
Size of Imagery Dataset
55GB (approx)
Horizontal Accuracy
≤0.30m (90% confidence interval)
Resolution
0.1m gsd
Coordinate System
NZTM2000 NZGD2000 Meters [EPSG: 2193]
Collector
AAM New Zealand Limited
Licensor
This work is licensed by AAM NZ Limited and Taupō District Council for re-use under the Creative Commons Attribution 4.0 New Zealand License.
Format
TIFF with World Files (TFW)
Funder
Taupō District Council
Name: imagery/Taupō_Bay_Kinloch_2020
Description: Title
Taupō and Kinloch Settlements, Waikato, New Zealand, 2020
Description
AAM was engaged by Taupo District Council to undertake acquisition and processing of aerial imagery over Taupo and Kinloch settlements.
Survey Date
23rd, 25th and 26th of January 2020
Area of Imagery Dataset
153 km2 (approx)
Size of Imagery Dataset
55GB (approx)
Horizontal Accuracy
≤0.30m (90% confidence interval)
Resolution
0.1m gsd
Coordinate System
NZTM2000 NZGD2000 Meters [EPSG: 2193]
Collector
AAM New Zealand Limited
Licensor
This work is licensed by AAM NZ Limited and Taupō District Council for re-use under the Creative Commons Attribution 4.0 New Zealand License.
Format
TIFF with World Files (TFW)
Funder
Taupō District Council
Single Fused Map Cache: true
Tile Info:
- Height: 256
- Width: 256
- DPI: 96
-
Levels of Detail: 24
-
Level ID: 0
[ Start Tile, End Tile ]
- Resolution: 156543.03392799935
- Scale: 5.91657527591552E8
-
Level ID: 1
[ Start Tile, End Tile ]
- Resolution: 78271.51696399967
- Scale: 2.95828763795776E8
-
Level ID: 2
[ Start Tile, End Tile ]
- Resolution: 39135.75848199984
- Scale: 1.47914381897888E8
-
Level ID: 3
[ Start Tile, End Tile ]
- Resolution: 19567.87924099992
- Scale: 7.3957190948944E7
-
Level ID: 4
[ Start Tile, End Tile ]
- Resolution: 9783.93962049996
- Scale: 3.6978595474472E7
-
Level ID: 5
[ Start Tile, End Tile ]
- Resolution: 4891.96981024998
- Scale: 1.8489297737236E7
- Format: MIXED
- Compression Quality: 90.0
- LERC Error: NaN
- Origin: X: -4020900.0
Y: 1.99981E7
- Spatial Reference: 2193
(2193)
LatestVCSWkid(0)
Storage Info:
- Storage Format: esriMapCacheStorageModeCompactV2
- Packet Size: 128
Extent:
XMin: 1852480.0
YMin: 5700480.0
XMax: 1876480.0
YMax: 5721360.0
Spatial Reference: 2193
(2193)
LatestVCSWkid(0)
Initial Extent:
XMin: 1852480.0
YMin: 5700480.0
XMax: 1876480.0
YMax: 5721360.0
Spatial Reference: 2193
(2193)
LatestVCSWkid(0)
Full Extent:
XMin: 1852480.0
YMin: 5700480.0
XMax: 1876480.0
YMax: 5721360.0
Spatial Reference: 2193
(2193)
LatestVCSWkid(0)
Pixel Size X: 0.1
Pixel Size Y: 0.1
Band Count: 3
Pixel Type: U8
RasterFunction Infos: {"rasterFunctionInfos": [{
"name": "None",
"description": "A No-Op Function.",
"help": ""
}]}
Mensuration Capabilities: NONE
Has Histograms: true
Has Colormap: false
Has Multi Dimensions : false
Rendering Rule:
Min Scale: 5.91657527591552E8
Max Scale: 70.5310735
Min LOD: 0
Max LOD: 23
Copyright Text: This work is licensed by AAM NZ Limited and Taupō District Council for re-use under the Creative Commons Attribution 4.0 New Zealand License.
Service Data Type: esriImageServiceDataTypeRGB
Min Values: 0, 0, 0
Max Values: 252, 252, 252
Mean Values: 107.662019126167, 110.36897774881086, 93.85622453704553
Standard Deviation Values: 41.50582951578209, 38.61562405887951, 32.19698295476846
Object ID Field: OBJECTID
Fields:
-
OBJECTID
(
type: esriFieldTypeOID, alias: OBJECTID
)
-
Shape
(
type: esriFieldTypeGeometry, alias: Shape
)
-
Name
(
type: esriFieldTypeString, alias: Name, length: 200
)
-
MinPS
(
type: esriFieldTypeDouble, alias: MinPS
)
-
MaxPS
(
type: esriFieldTypeDouble, alias: MaxPS
)
-
LowPS
(
type: esriFieldTypeDouble, alias: LowPS
)
-
HighPS
(
type: esriFieldTypeDouble, alias: HighPS
)
-
Category
(
type: esriFieldTypeInteger, alias: Category
, Coded Values:
[0: Unknown]
, [1: Primary]
, [2: Overview]
, ...6 more...
)
-
Tag
(
type: esriFieldTypeString, alias: Tag, length: 100
)
-
GroupName
(
type: esriFieldTypeString, alias: GroupName, length: 100
)
-
ProductName
(
type: esriFieldTypeString, alias: ProductName, length: 100
)
-
CenterX
(
type: esriFieldTypeDouble, alias: CenterX
)
-
CenterY
(
type: esriFieldTypeDouble, alias: CenterY
)
-
ZOrder
(
type: esriFieldTypeInteger, alias: ZOrder
)
-
Shape_Length
(
type: esriFieldTypeDouble, alias: Shape_Length
)
-
Shape_Area
(
type: esriFieldTypeDouble, alias: Shape_Area
)
Default Mosaic Method: Northwest
Allowed Mosaic Methods: NorthWest,Center,LockRaster,ByAttribute,Nadir,Viewpoint,Seamline,None
SortField:
SortValue: null
Mosaic Operator: First
Default Compression Quality: 75
Default Resampling Method: Bilinear
Max Record Count: 1000
Max Image Height: 4100
Max Image Width: 15000
Max Download Image Count: 20
Max Mosaic Image Count: 50
Allow Raster Function: true
Allow Copy: true
Allow Analysis: true
Allow Compute TiePoints: false
Supports Statistics: true
Supports Advanced Queries: true
Use StandardizedQueries: true
Raster Type Infos:
Name: Raster Dataset
Description: Supports all ArcGIS Raster Datasets
Help:
Has Raster Attribute Table: false
Edit Fields Info: null
Ownership Based AccessControl For Rasters: null
Child Resources:
Info
Histograms
Statistics
Key Properties
Legend
Raster Function Infos
Supported Operations:
Export Image
Query
Identify
Measure
Compute Histograms
Compute Statistics Histograms
Get Samples
Compute Class Statistics
Query Boundary
Compute Pixel Location
Compute Angles
Validate
Project